BEGIN:VCALENDAR
VERSION:2.0
PRODID:-//Cocktails &amp; Canvas - ECPv6.15.20//NONSGML v1.0//EN
CALSCALE:GREGORIAN
METHOD:PUBLISH
X-ORIGINAL-URL:https://www.cocktailscanvas.com
X-WR-CALDESC:Events for Cocktails &amp; Canvas
REFRESH-INTERVAL;VALUE=DURATION:PT1H
X-Robots-Tag:noindex
X-PUBLISHED-TTL:PT1H
BEGIN:VTIMEZONE
TZID:America/Chicago
BEGIN:DAYLIGHT
TZOFFSETFROM:-0600
TZOFFSETTO:-0500
TZNAME:CDT
DTSTART:20230312T080000
END:DAYLIGHT
BEGIN:STANDARD
TZOFFSETFROM:-0500
TZOFFSETTO:-0600
TZNAME:CST
DTSTART:20231105T070000
END:STANDARD
BEGIN:DAYLIGHT
TZOFFSETFROM:-0600
TZOFFSETTO:-0500
TZNAME:CDT
DTSTART:20240310T080000
END:DAYLIGHT
BEGIN:STANDARD
TZOFFSETFROM:-0500
TZOFFSETTO:-0600
TZNAME:CST
DTSTART:20241103T070000
END:STANDARD
BEGIN:DAYLIGHT
TZOFFSETFROM:-0600
TZOFFSETTO:-0500
TZNAME:CDT
DTSTART:20250309T080000
END:DAYLIGHT
BEGIN:STANDARD
TZOFFSETFROM:-0500
TZOFFSETTO:-0600
TZNAME:CST
DTSTART:20251102T070000
END:STANDARD
END:VTIMEZONE
BEGIN:VEVENT
DTSTART;TZID=America/Chicago:20241207T140000
DTEND;TZID=America/Chicago:20241207T160000
DTSTAMP:20260424T071523
CREATED:20241005T150130Z
LAST-MODIFIED:20241122T044308Z
UID:4008-1733580000-1733587200@www.cocktailscanvas.com
SUMMARY:Christmas Glass Ornament Painting SOLD OUT!
DESCRIPTION:THIS EVENT IS NOW SOLD OUT. Be sure to reserve your tickets early for our next fun event. \nJoin us at our Christmas ornament painting event at the beautiful Four Corners Winery in Valparaiso Indiana. We will be painting two 4″ glass ornaments. The first is an adorable reindeer with gold-wired Christmas lights hanging from his fuzzy antlers\, the second is the cutest snowman with a fuzzy orange carrot nose and black velvet wired top hat with a jingle bell at the end. Glass balls will come prefilled with a snowy glitter Christmas confetti mix for the perfect accent to your ornament.  We will be using special glass paint that will last for years to come. If you are making these for someone special you can also paint the date or their name onto the ornament. Makes for a wonderful Christmas present or keep for yourself to enjoy! \nBring your friends or come solo to meet new friends! No experience necessary. We will walk you through every step of the way\, no stress all fun! \nSeating is limited so reserve your easels now. Tickets may be purchased right here on the website or through Eventbrite. Time to relax and enjoy a fun evening painting with friends. \nTicket price includes the art entertainment and all of the necessary supplies to create your own beautiful masterpiece.  All food and beverages are sold separate of the art event ticket. Any questions or need more information email: cocktailsandcanvasforme@gmail.com \nIF YOU ARE PURCHASING TICKETS FOR ANYONE BESIDES YOURSELF\, BE SURE TO EMAIL US WITH YOUR GUESTS NAMES SO WE CAN BE SURE YOU ARE ALL SEATED TOGETHER. Email: cocktailsandcanvasforme@gmail.com \nHappy Painting! \n  \nPurchase your tickets through Eventbrite by clicking this link: \nhttps://www.eventbrite.com/e/christmas-glass-ornament-cocktails-and-canvas-painting-event-tickets-1039465638707?aff=oddtdtcreator \n*Please note that your ticket is your receipt of complete transaction from website. Once your transaction has been completed your name will automatically be put onto our registration list and your seat/easel will be waiting for you when you arrive. You are welcome to take a screenshot of your transaction to show upon your arrival however if you see your name on our registry sign-in sheet\, you won’t have to show any proof of purchase.  If for any reason you are unable to attend the painting event and give us a 48 hour or more email notification that you are unable to attend we will gladly give you a credit in which you are able to use towards any event of your choice within the next 60 days from the date of your original event ticket purchase. Any questions about the event or your ticket purchase email:  cocktailsandcanvasforme@gmail.com \n*Paypal has very secure requirements\, depending on your secure firewall the pay portal may cause issues to delay the ticket purchase. Please note that tickets for this event can also be purchased through Eventbrite. If you need any further assistance email: cocktailsandcanvasforme@gmail.com \nC&C Arts promotes responsible drinking only. Please designate a responsible driver or utilize a taxi or likewise service to make sure you return safely home. We want to see you enjoy your time painting and having fun with your friends and family but we encourage you to do it in a responsible and safe manner. \nCheers to following your art!
URL:https://www.cocktailscanvas.com/event/christmas-glass-ornament-painting/
LOCATION:Four Corners Winery\, 294 East 600 North\, Valparaiso\, IN\, 46383\, United States
CATEGORIES:Cocktails & Canvas
ATTACH;FMTTYPE=image/jpeg:https://www.cocktailscanvas.com/wp-content/uploads/2024/10/IMG_7688.jpg
END:VEVENT
END:VCALENDAR