BEGIN:VCALENDAR
VERSION:2.0
PRODID:-//Cocktails &amp; Canvas - ECPv6.15.20//NONSGML v1.0//EN
CALSCALE:GREGORIAN
METHOD:PUBLISH
X-ORIGINAL-URL:https://www.cocktailscanvas.com
X-WR-CALDESC:Events for Cocktails &amp; Canvas
REFRESH-INTERVAL;VALUE=DURATION:PT1H
X-Robots-Tag:noindex
X-PUBLISHED-TTL:PT1H
BEGIN:VTIMEZONE
TZID:UTC
BEGIN:STANDARD
TZOFFSETFROM:+0000
TZOFFSETTO:+0000
TZNAME:UTC
DTSTART:20220101T000000
END:STANDARD
END:VTIMEZONE
BEGIN:VEVENT
DTSTART;TZID=UTC:20230201T180000
DTEND;TZID=UTC:20230201T200000
DTSTAMP:20260419T170046
CREATED:20221211T232627Z
LAST-MODIFIED:20230106T040621Z
UID:2221-1675274400-1675281600@www.cocktailscanvas.com
SUMMARY:Joy to the Wine!
DESCRIPTION:Join us at the Goblin & the Grocer Restaurant as we will be painting “Joy to the Wine!”.\nBring your friends or come solo to meet new friends!\nNo experience necessary. We will walk you through every step of the way.  \nSeating is limited so reserve your easels now. Tickets may be purchased right here on the website or through Eventbrite www.Eventbrite.com (Search under “cocktailscanvas” in the Chicagoland area.)  \nTime to relax and enjoy a fun evening painting with friends. This event venue is an all ages event as it is in a specific designated area separate from the bar area. Ticket price includes the art entertainment and all of the necessary supplies to create your own beautiful masterpiece. All food and beverages are sold separate of the art event ticket. Any questions or need more information email: cocktailsandcanvasforme@gmail.com \nHappy Painting! \nIF YOU HAVE A LARGE PARTY OR PURCHASING TICKETS FOR ANYONE BESIDES YOURSELF\, PLEASE BE SURE TO EMAIL US WITH A LIST OF YOUR GUESTS NAMES SO WE CAN BE SURE YOU ARE ALL SEATED TOGETHER. Email: cocktailsandcanvasforme@gmail.com \n\n\n \n\n\nGoblin&Grocer.PaintingTicket\n\n\n\n\n\n\n\n\n*Please note that your ticket is your receipt of complete transaction from website/PayPal. Once your transaction has been completed your name will automatically be put onto our registration list and your seat/easel will be waiting for you when you arrive. You are welcome to take a screenshot of your transaction but it is not necessary. If for any reason you are unable to attend the painting event and give us a 48 hour or more email notification that you are unable to attend we will gladly give you a credit in which you are able to use towards any event of your choice within the next 60 days from the date of your original event ticket purchase. Any questions about the event or your ticket purchase email: cocktailsandcanvasforme@gmail.com  \n*Paypal has very secure requirements and depending on your secure firewall the pay portal may cause issues to delay the ticket purchase. Please note that tickets for this event can be purchased on Eventbrite (www.eventbrite.com) under “cocktailscanvas” in the Chicagoland area. If you need any further assistance email: cocktailsandcanvasforme@gmail.com
URL:https://www.cocktailscanvas.com/event/joy-to-the-wine/
LOCATION:Goblin & the Grocer Restaurant\, 1 West Dunes Highway\, Beverly Shores\, IN\, 46301\, United States
CATEGORIES:Cocktails & Canvas
ATTACH;FMTTYPE=image/jpeg:https://www.cocktailscanvas.com/wp-content/uploads/2022/12/IMG_1448.jpg
END:VEVENT
BEGIN:VEVENT
DTSTART;TZID=UTC:20230204T140000
DTEND;TZID=UTC:20230204T160000
DTSTAMP:20260419T170046
CREATED:20221211T225829Z
LAST-MODIFIED:20230103T224145Z
UID:2218-1675519200-1675526400@www.cocktailscanvas.com
SUMMARY:Wine & Love
DESCRIPTION:Join us in painting “Wine & Love” at Kelly’s Pub in South Bend Indiana.\nBring your friends or come solo to meet new friends! No experience necessary. We will walk you through every step of the way\, no stress all fun!  \nSeating is limited so reserve your easels now. Tickets may be purchased right here on the website\, through Eventbrite or at Kelly’s Pub. Time to relax and enjoy a fun evening painting with friends.  \nThis event venue is a 21 and older event. Ticket price includes the art entertainment and all of the necessary supplies to create your own beautiful masterpiece. All food and beverages are sold separate of the art event ticket. “LOVE” is hand painted or you may email us to request sticker label letters to eliminate any stress of painting the letters on. We are here to have fun\, no stressing! Any questions or need more information email: cocktailsandcanvasforme@gmail.com \nIF YOU HAVE A LARGE PARTY OR PURCHASING TICKETS FOR ANYONE BESIDES YOURSELF\, PLEASE BE SURE TO EMAIL US WITH A LIST OF YOUR GUESTS NAMES SO WE CAN BE SURE YOU ARE ALL SEATED TOGETHER. Email: cocktailsandcanvasforme@gmail.com \nHappy Painting! \n\n\n \n\n\nKelly’s Pub Painting Ticket\n\n\n\n\n\n\n\n\n*Please note that your ticket is your receipt of complete transaction from website/PayPal. Once your transaction has been completed your name will automatically be put onto our registration list and your seat/easel will be waiting for you when you arrive. You are welcome to take a screenshot of your transaction but it is not necessary. If for any reason you are unable to attend the painting event and give us a 48 hour or more email notification that you are unable to attend we will gladly give you a credit in which you are able to use towards any event of your choice within the next 60 days from the date of your original event ticket purchase. Any questions about the event or your ticket purchase please email us at: cocktailsandcanvasforme@gmail.com  \n*Paypal has very secure requirements and depending on your secure firewall the pay portal may cause issues to delay the ticket purchase. Please note that tickets for this event can be purchased on Eventbrite (www.eventbrite.com) under “cocktailscanvas” in the Chicagoland area. If you need any further assistance please email: cocktailsandcanvasforme@gmail.com
URL:https://www.cocktailscanvas.com/event/wine-love/
LOCATION:Kelly’s Pub\, 1150 Mishawaka Ave\, South Bend\, IN\, 46615\, United States
CATEGORIES:Cocktails & Canvas
ATTACH;FMTTYPE=image/jpeg:https://www.cocktailscanvas.com/wp-content/uploads/2022/12/IMG_1438.jpg
END:VEVENT
END:VCALENDAR