BEGIN:VCALENDAR
VERSION:2.0
PRODID:-//Cocktails &amp; Canvas - ECPv6.15.20//NONSGML v1.0//EN
CALSCALE:GREGORIAN
METHOD:PUBLISH
X-WR-CALNAME:Cocktails &amp; Canvas
X-ORIGINAL-URL:https://www.cocktailscanvas.com
X-WR-CALDESC:Events for Cocktails &amp; Canvas
REFRESH-INTERVAL;VALUE=DURATION:PT1H
X-Robots-Tag:noindex
X-PUBLISHED-TTL:PT1H
BEGIN:VTIMEZONE
TZID:UTC
BEGIN:STANDARD
TZOFFSETFROM:+0000
TZOFFSETTO:+0000
TZNAME:UTC
DTSTART:20210101T000000
END:STANDARD
END:VTIMEZONE
BEGIN:VEVENT
DTSTART;TZID=UTC:20221210T140000
DTEND;TZID=UTC:20221210T160000
DTSTAMP:20260419T201410
CREATED:20221016T214957Z
LAST-MODIFIED:20221016T214957Z
UID:2174-1670680800-1670688000@www.cocktailscanvas.com
SUMMARY:Santa's Sleigh
DESCRIPTION:Join us in painting “Santa’s Sleigh” at Kelly’s Pub in South Bend Indiana.\nBring your friends or come solo to meet new friends! No experience necessary. We will walk you through every step of the way\, no stress all fun!  \nSeating is limited so reserve your easels now. Tickets may be purchased right here on the website\, through Eventbrite or at Kelly’s Pub. Time to relax and enjoy a fun evening painting with friends.  \nThis event venue is a 21 and older event. Ticket price includes the art entertainment and all of the necessary supplies to create your own beautiful masterpiece. All food and beverages are sold separate of the art event ticket. Any questions or need more information email: cocktailsandcanvasforme@gmail.com \nIF YOU HAVE A LARGE PARTY OR PURCHASING TICKETS FOR ANYONE BESIDES YOURSELF\, PLEASE BE SURE TO EMAIL US WITH A LIST OF YOUR GUESTS NAMES SO WE CAN BE SURE YOU ARE ALL SEATED TOGETHER. Email: cocktailsandcanvasforme@gmail.com \n\n\n \n\n\nKelly’s Pub Painting Ticket\n\n\n\n\n\n\n\n\n*Please note that your ticket is your receipt of complete transaction from website/PayPal. Once your transaction has been completed your name will automatically be put onto our registration list and your seat/easel will be waiting for you when you arrive. You are welcome to take a screenshot of your transaction but it is not necessary. If for any reason you are unable to attend the painting event and give us a 48 hour or more email notification that you are unable to attend we will gladly give you a credit in which you are able to use towards any event of your choice within the next 60 days from the date of your original event ticket purchase. Any questions about the event or your ticket purchase please email us at: cocktailsandcanvasforme@gmail.com  \n*Paypal has very secure requirements and depending on your secure firewall the pay portal may cause issues to delay the ticket purchase. Please note that tickets for this event can be purchased on Eventbrite (www.eventbrite.com) under “cocktailscanvas” in the Chicagoland area. If you need any further assistance please email: cocktailsandcanvasforme@gmail.com
URL:https://www.cocktailscanvas.com/event/santas-sleigh/
LOCATION:Kelly’s Pub\, 1150 Mishawaka Ave\, South Bend\, IN\, 46615\, United States
CATEGORIES:Cocktails & Canvas
ATTACH;FMTTYPE=image/jpeg:https://www.cocktailscanvas.com/wp-content/uploads/2020/11/IMG_A993F7F5D220-1.jpeg
END:VEVENT
BEGIN:VEVENT
DTSTART;TZID=UTC:20221214T180000
DTEND;TZID=UTC:20221214T200000
DTSTAMP:20260419T201410
CREATED:20221004T193118Z
LAST-MODIFIED:20221111T200453Z
UID:2155-1671040800-1671048000@www.cocktailscanvas.com
SUMMARY:Snowglobe Dreams
DESCRIPTION:Join us in painting “Snowglobe Dreams” at the brand new venue Eatery 41 in Highland Indiana.\nThis event venue is inside a large\, well-lit and contemporary antique mall so come early to shop around for some perfectly unique Christmas gifts! \nBring your friends or come solo to meet new friends! No experience necessary. We will walk you through every step of the way\, no stress all fun! On the base of the Snowglobe you can choose to hand write your last name or the person’s name you are creating this beautiful work of art for. If you would like to have a pre-designed sticker label made instead of hand-writing feel free to email us with the exact name or word you would like to have designed and we will have it waiting for you when you arrive at the event.  \nSeating is limited so reserve your easels now. Tickets may be purchased right here on the website or through Eventbrite. Time to relax and enjoy a fun evening painting with friends.  \nThis event venue is an all ages event as it is in a specific designated area separate from the bar area. Ticket price includes the art entertainment and all of the necessary supplies to create your own beautiful masterpiece. All food and beverages are sold separate of the art event ticket. Any questions or need more information email: cocktailsandcanvasforme@gmail.com \nIF YOU HAVE A LARGE PARTY OR PURCHASING TICKETS FOR ANYONE BESIDES YOURSELF\, PLEASE BE SURE TO EMAIL US WITH A LIST OF YOUR GUESTS NAMES SO WE CAN BE SURE YOU ARE ALL SEATED TOGETHER. Email: cocktailsandcanvasforme@gmail.com \n\n\n \n\n\nEatery41 Painting Ticket\n\n\n\n\n\n\n\n\n*Please note that your ticket is your receipt of complete transaction from website/PayPal. Once your transaction has been completed your name will automatically be put onto our registration list and your seat/easel will be waiting for you when you arrive. You are welcome to take a screenshot of your transaction but it is not necessary. If for any reason you are unable to attend the painting event and give us a 48 hour or more email notification that you are unable to attend we will gladly give you a credit in which you are able to use towards any event of your choice within the next 60 days from the date of your original event ticket purchase. Any questions about the event or your ticket purchase please email us at: cocktailsandcanvasforme@gmail.com  \n*Paypal has very secure requirements and depending on your secure firewall the pay portal may cause issues to delay the ticket purchase. Please note that tickets for this event can be purchased on Eventbrite (www.eventbrite.com) under “cocktailscanvas” in the Chicagoland area. If you need any further assistance please email: cocktailsandcanvasforme@gmail.com
URL:https://www.cocktailscanvas.com/event/snowglobe-dreams/
LOCATION:Eatery 41\, 8311 Indianpolis Blvd\, Highland\, 46322\, United States
CATEGORIES:Cocktails & Canvas
ATTACH;FMTTYPE=image/jpeg:https://www.cocktailscanvas.com/wp-content/uploads/2022/10/IMG_0046.jpg
END:VEVENT
BEGIN:VEVENT
DTSTART;TZID=UTC:20221219T180000
DTEND;TZID=UTC:20221219T200000
DTSTAMP:20260419T201410
CREATED:20221115T023227Z
LAST-MODIFIED:20221212T200118Z
UID:2193-1671472800-1671480000@www.cocktailscanvas.com
SUMMARY:Christmas Delivery Paint & Kareoke!
DESCRIPTION:Join us at AJ’s Pizza Co. in Chesterton Indiana as we paint and sing karaoke! Bring your friends or come solo to meet new friends! No experience necessary. We will walk you through every step of the way\, no stress all fun!  \nSeating is limited so reserve your easels now for this festive “Christmas Delivery” painting. Fabric panels\, gift wrapping paper\, ribbons and bows will be used to craft the Christmas gifts in the back of the truck. We will be crafting this part of the project as we introduce a little karaoke fun!  \nTickets may be purchased right here on the website or  through Eventbrite (search under “cocktailscanvas” in the Chicagoland area). Time to relax and enjoy a fun evening painting with friends.  \nTicket price includes the art entertainment and all of the necessary supplies to create your own beautiful masterpiece. We will be adding in some fun and festive karaoke singing as we paint for this special Christmas event! You are not required to sing\, you can just come and listen to everyone else as we smile\, laugh and cheer them on! Enjoy a fun evening full of laughter and friends. All food and beverages are sold separate of the art event ticket. Any questions or need more information email: cocktailsandcanvasforme@gmail.com \nIF YOU HAVE A LARGE PARTY OR PURCHASING TICKETS FOR ANYONE BESIDES YOURSELF\, PLEASE BE SURE TO EMAIL US WITH A LIST OF YOUR GUESTS NAMES SO WE CAN BE SURE YOU ARE ALL SEATED TOGETHER. Email: cocktailsandcanvasforme@gmail.com \nTHIS EVENT IS NOW SOLD OUT! \n*Please note that your ticket is your receipt of complete transaction from website/PayPal. Once your transaction has been completed your name will automatically be put onto our registration list and your seat/easel will be waiting for you when you arrive. You are welcome to take a screenshot of your transaction but it is not necessary. If for any reason you are unable to attend the painting event and give us a 48 hour or more email notification that you are unable to attend we will gladly give you a credit in which you are able to use towards any event of your choice within the next 60 days from the date of your original event ticket purchase. Any questions about the event or your ticket purchase please email us at: cocktailsandcanvasforme@gmail.com  \n*Paypal has very secure requirements and depending on your secure firewall the pay portal may cause issues to delay the ticket purchase. Please note that tickets for this event can be purchased on Eventbrite (www.eventbrite.com) under “cocktailscanvas” in the Chicagoland area. If you need any further assistance please email: cocktailsandcanvasforme@gmail.com
URL:https://www.cocktailscanvas.com/event/christmas-delivery-paint-kareoke/
LOCATION:AJ’s Pizza Co.\, 3050 Matson Dr.\, Chesterton\, IN\, 46360\, United States
CATEGORIES:Cocktails & Canvas
ATTACH;FMTTYPE=image/jpeg:https://www.cocktailscanvas.com/wp-content/uploads/2022/11/IMG_0841.jpg
END:VEVENT
END:VCALENDAR