BEGIN:VCALENDAR
VERSION:2.0
PRODID:-//Cocktails &amp; Canvas - ECPv6.15.20//NONSGML v1.0//EN
CALSCALE:GREGORIAN
METHOD:PUBLISH
X-WR-CALNAME:Cocktails &amp; Canvas
X-ORIGINAL-URL:https://www.cocktailscanvas.com
X-WR-CALDESC:Events for Cocktails &amp; Canvas
REFRESH-INTERVAL;VALUE=DURATION:PT1H
X-Robots-Tag:noindex
X-PUBLISHED-TTL:PT1H
BEGIN:VTIMEZONE
TZID:UTC
BEGIN:STANDARD
TZOFFSETFROM:+0000
TZOFFSETTO:+0000
TZNAME:UTC
DTSTART:20200101T000000
END:STANDARD
END:VTIMEZONE
BEGIN:VEVENT
DTSTART;TZID=UTC:20210527T180000
DTEND;TZID=UTC:20210527T200000
DTSTAMP:20260423T025012
CREATED:20210428T010617Z
LAST-MODIFIED:20210428T010617Z
UID:1505-1622138400-1622145600@www.cocktailscanvas.com
SUMMARY:Lighthouse Days
DESCRIPTION:Looking for something fun to do? \nJoin us in painting “Lighthouse Days” at the Goblin & the Grocer Restaurant in Beverly Shores Indiana.\nBring your friends or come solo to meet new friends! \nNo experience necessary. We will walk you through every step of the way.  \nSeating is limited so reserve your easels now.\nTickets may be purchased right here on the website or directly at the Goblin & the Grocer Restaurant. \nTime to relax and enjoy a fun evening painting with friends. For more information email us at: cocktailsandcanvasforme@gmail.com \nHappy Painting! \n\n\n \n\n\nGoblin&Grocer.PaintingTicket
URL:https://www.cocktailscanvas.com/event/lighthouse-days/
LOCATION:Goblin & the Grocer Restaurant\, 1 West Dunes Highway\, Beverly Shores\, IN\, 46301\, United States
CATEGORIES:Cocktails & Canvas
ATTACH;FMTTYPE=image/jpeg:https://www.cocktailscanvas.com/wp-content/uploads/2021/04/IMG_8058.jpg
END:VEVENT
END:VCALENDAR