BEGIN:VCALENDAR
VERSION:2.0
PRODID:-//Cocktails &amp; Canvas - ECPv6.15.20//NONSGML v1.0//EN
CALSCALE:GREGORIAN
METHOD:PUBLISH
X-WR-CALNAME:Cocktails &amp; Canvas
X-ORIGINAL-URL:https://www.cocktailscanvas.com
X-WR-CALDESC:Events for Cocktails &amp; Canvas
REFRESH-INTERVAL;VALUE=DURATION:PT1H
X-Robots-Tag:noindex
X-PUBLISHED-TTL:PT1H
BEGIN:VTIMEZONE
TZID:UTC
BEGIN:STANDARD
TZOFFSETFROM:+0000
TZOFFSETTO:+0000
TZNAME:UTC
DTSTART:20210101T000000
END:STANDARD
END:VTIMEZONE
BEGIN:VEVENT
DTSTART;TZID=UTC:20220331T160000
DTEND;TZID=UTC:20220331T180000
DTSTAMP:20260424T030606
CREATED:20220211T091414Z
LAST-MODIFIED:20220317T185639Z
UID:1855-1648742400-1648749600@www.cocktailscanvas.com
SUMMARY:Mindset is Everything
DESCRIPTION:Join us in painting “Mindset is Everything” at the South Bend Chocolate Cafe at the Michigan City Lighthouse Outlet Mall in Michigan City Indiana.\nBring your friends or come solo to meet new friends! \nNo experience necessary. We will walk you through every step of the way.  \nSeating is limited so reserve your easels now.\nTickets may be purchased right here on the website or through Eventbrite (search “cocktailscanvas” in the Chicagoland area). \nTime to relax and enjoy a fun evening painting with friends. For more information email us at: cocktailsandcanvasforme@gmail.com \nHappy Painting! \nEvent is SOLD OUT.
URL:https://www.cocktailscanvas.com/event/positive-affirmation-painting-fish-shark-mindset-is-everything/
LOCATION:Michigan City South Bend Chocolate Cafe\, 307 Lighthouse Place\, Michigan City\, IN\, 46360\, United States
CATEGORIES:Cocktails & Canvas
ATTACH;FMTTYPE=image/jpeg:https://www.cocktailscanvas.com/wp-content/uploads/2022/02/IMG_3917.jpg
END:VEVENT
END:VCALENDAR