BEGIN:VCALENDAR
VERSION:2.0
PRODID:-//Cocktails &amp; Canvas - ECPv6.15.20//NONSGML v1.0//EN
CALSCALE:GREGORIAN
METHOD:PUBLISH
X-ORIGINAL-URL:https://www.cocktailscanvas.com
X-WR-CALDESC:Events for Cocktails &amp; Canvas
REFRESH-INTERVAL;VALUE=DURATION:PT1H
X-Robots-Tag:noindex
X-PUBLISHED-TTL:PT1H
BEGIN:VTIMEZONE
TZID:America/Chicago
BEGIN:DAYLIGHT
TZOFFSETFROM:-0600
TZOFFSETTO:-0500
TZNAME:CDT
DTSTART:20250309T080000
END:DAYLIGHT
BEGIN:STANDARD
TZOFFSETFROM:-0500
TZOFFSETTO:-0600
TZNAME:CST
DTSTART:20251102T070000
END:STANDARD
BEGIN:DAYLIGHT
TZOFFSETFROM:-0600
TZOFFSETTO:-0500
TZNAME:CDT
DTSTART:20260308T080000
END:DAYLIGHT
BEGIN:STANDARD
TZOFFSETFROM:-0500
TZOFFSETTO:-0600
TZNAME:CST
DTSTART:20261101T070000
END:STANDARD
BEGIN:DAYLIGHT
TZOFFSETFROM:-0600
TZOFFSETTO:-0500
TZNAME:CDT
DTSTART:20270314T080000
END:DAYLIGHT
BEGIN:STANDARD
TZOFFSETFROM:-0500
TZOFFSETTO:-0600
TZNAME:CST
DTSTART:20271107T070000
END:STANDARD
END:VTIMEZONE
BEGIN:VEVENT
DTSTART;TZID=America/Chicago:20260618T180000
DTEND;TZID=America/Chicago:20260618T200000
DTSTAMP:20260421T201132
CREATED:20260421T175742Z
LAST-MODIFIED:20260421T180715Z
UID:5579-1781805600-1781812800@www.cocktailscanvas.com
SUMMARY:Neat & Notorious(Click here for tickets)*On Sale$39.99*
DESCRIPTION:🌟🎨🖌️ Cocktails & Canvas ~ Your Creative Escape! 🖼️ 🎨🌟   \nUnwind\, sip\, and paint your stress away\, no experience needed! This isn’t a formal class\, it’s a fun\, social “party on canvas.” Guests often call it the best kind of paint therapy: fun\, relaxing\, and refreshingly different. Come solo to relax or bring friends for an easygoing\, creative night out.   \n*This “Neat & Notorious” painting comes with a fun bourbon style label that you can personalize with your own name or put your husband or your dad’s name on it. Just in time for the perfect Father’s Day gift. \nWhat You Get💝\n🖌️ Step-by-step friendly instruction + art entertainment fun: you just never know what we’ll be up to\, we may throw in a little trivia\, bingo or some comedic laughs too. \n🎨 All premium art supplies and extra’s included (We love adding in 3D elements & accents!)\n✨ Pre-drawn guides for tricky shapes (No stress – we have you covered!)\n🖼️ Your finished masterpiece to take home (Makes a great gift for the in-laws!)\n🎁 Loyalty Club perks & surprises (We love our loyal painters and this is how we show you!) \nReserve Your Seat 🎟️ Spots are limited. Book via our website cocktailscanvas.com or Eventbrite\, then email your guest names so we can seat your group together: 📧cocktailsandcanvasforme@gmail.com      \n🎟️ Secure PayPal Link: https://www.paypal.com/ncp/payment/GH3RHWGBLERBU   \n🎟️  Secure Eventbrite Link: https://www.eventbrite.com/e/neat-notorious-cocktails-and-canvas-fun-paint-sip-social-art-event-tickets-1987944291891?aff=oddtdtcreator   \nGood to Know✅\n• Food & drinks available for purchase. Feel free to eat while painting! We don’t want any starving artists around here. All of our venues have excellent and delicious food.\n• Celebrating something? Let us know! 🎉\n• Sold out? Join the waitlist via email: 📧 cocktailsandcanvasforme@gmail.com                                                                                           • Cancel 48+ hours in advance for full event credit. No refunds for sold-out events. PayPal purchases are confirmed automatically\, no ticket email will be sent.  \nTo reserve group seating\, email us your guest names and we’ll have place cards ready at arrival. Email: 📧 cocktailsandcanvasforme@gmail.com    \nWho Can Join: Most all of our venues are family-friendly (ages 6yrs+ with an adult painting guardian) except for: \n21yrs+ Buddy & Pal’s & 21yrs+Three Monkeys Pub.  \nPrivate Events & Gift Certificates🎁 Email us to book parties or purchase gift certificates: 📧 cocktailsandcanvasforme@gmail.com \nGiving Back ❤️A portion of every ticket supports local schools\, veterans\, and community art programs so you’re painting with purpose.                                                                          \nC&C Arts promotes safe\, responsible fun. Enjoy the night but please plan a safe ride home.🏡 Designate a driver or use an uber service.✅                                                                        \n🖌️ Paint. ✨Laugh.🎨 Create.  See you there!
URL:https://www.cocktailscanvas.com/event/neat-notoriousclick-here-for-tickets/
LOCATION:SmokeTown Blues Barbecue\, 66 West Lincolnway\, Valparaiso\, IN\, 46383\, United States
CATEGORIES:Cocktails & Canvas
ATTACH;FMTTYPE=image/jpeg:https://www.cocktailscanvas.com/wp-content/uploads/2026/04/IMG_9460.jpg
END:VEVENT
END:VCALENDAR