BEGIN:VCALENDAR
VERSION:2.0
PRODID:-//Cocktails &amp; Canvas - ECPv6.15.20//NONSGML v1.0//EN
CALSCALE:GREGORIAN
METHOD:PUBLISH
X-ORIGINAL-URL:https://www.cocktailscanvas.com
X-WR-CALDESC:Events for Cocktails &amp; Canvas
REFRESH-INTERVAL;VALUE=DURATION:PT1H
X-Robots-Tag:noindex
X-PUBLISHED-TTL:PT1H
BEGIN:VTIMEZONE
TZID:UTC
BEGIN:STANDARD
TZOFFSETFROM:+0000
TZOFFSETTO:+0000
TZNAME:UTC
DTSTART:20210101T000000
END:STANDARD
END:VTIMEZONE
BEGIN:VEVENT
DTSTART;TZID=UTC:20221004T180000
DTEND;TZID=UTC:20221004T200000
DTSTAMP:20260421T131111
CREATED:20220827T185123Z
LAST-MODIFIED:20220827T185123Z
UID:2107-1664906400-1664913600@www.cocktailscanvas.com
SUMMARY:Moonlit Waterfall
DESCRIPTION:Join us in a fun time painting “Moonlit Waterfall” at Crown Brewing/Carriage Court Pizza in Crown Point Indiana. Bring your friends or come solo to meet new friends!\nNo experience necessary. We will walk you through every step of the way.  \nSeating is limited so reserve your seats now. Tickets may be purchased right here on the website or through Eventbrite www.Eventbrite.com (Search under “cocktailscanvas” in the Chicagoland area.)  \nTime to relax and enjoy a fun evening painting with friends. This event venue is an all ages event as it is in a specific designated area separate from the bar area. Ticket price includes the art entertainment and all of the necessary supplies to create your own beautiful masterpiece on two wine glasses per each painter. All food and beverages are sold separate of the art event ticket. Any questions or need more information email: cocktailsandcanvasforme@gmail.com \nHappy Painting! \nIF YOU ARE PURCHASING TICKETS FOR MORE THAN JUST YOURSELF PLEASE EMAIL US AT: cocktailsandcanvasforme@gmail.com AND LET US KNOW THE OTHER NAMES OF THE PERSONS IN YOUR RESERVATION SO WE CAN BE SURE TO SEAT YOU ALL TOGETHER. \n\n\n \n\n\nPainting Ticket CC $35\n\n\n\n\n\n\n\n\n*Please note that your ticket is your receipt of complete transaction from website/PayPal. Once your transaction has been completed your name will automatically be put onto our registration list and your seat/easel will be waiting for you when you arrive. You are welcome to take a screenshot of your transaction but it is not necessary. If for any reason you are unable to attend the painting event and give us a 48 hour or more email notification that you are unable to attend we will gladly give you a credit in which you are able to use towards any event of your choice within the next 60 days from the date of your original event ticket purchase. Any questions about the event or your ticket purchase please email: cocktailsandcanvasforme@gmail.com  \n*Paypal has very secure requirements and depending on your secure firewall the pay portal may cause issues to delay the ticket purchase. Please note that tickets for this event can be purchased on Eventbrite (www.eventbrite.com) under “cocktailscanvas” in the Chicagoland area. If you need any further assistance please email: cocktailsandcanvasforme@gmail.com
URL:https://www.cocktailscanvas.com/event/moonlit-waterfall-2/
LOCATION:Carriage Court Pizza\, 211 S East Street #A\, Crown Point\, IN\, 46307\, United States
CATEGORIES:Cocktails & Canvas
ATTACH;FMTTYPE=image/jpeg:https://www.cocktailscanvas.com/wp-content/uploads/2022/08/IMG_4D5130F61ADF-1.jpeg
END:VEVENT
BEGIN:VEVENT
DTSTART;TZID=UTC:20221006T160000
DTEND;TZID=UTC:20221006T180000
DTSTAMP:20260421T131111
CREATED:20220923T194115Z
LAST-MODIFIED:20220923T194327Z
UID:2145-1665072000-1665079200@www.cocktailscanvas.com
SUMMARY:Hocus Pocus (Chocolates & Canvas)
DESCRIPTION:Join us in painting “Hocus Pocus” at the South Bend Chocolate Cafe at the Michigan City Lighthouse Outlet Mall in Michigan City Indiana. Bring your friends or come solo to meet new friends! We will be sampling delicious South Bend Chocolates as we paint and ALL painters receive a 20% discount on food\, beverage\, desserts and chocolate while painting!  \nNo experience necessary. We will walk you through every step of the way.  \nSeating is limited so reserve your easels now. This is an ALL AGES family friendly event venue.\nTickets may be purchased right here on the website or through Eventbrite (search “cocktailscanvas” in the Chicagoland area). \nTime to relax and enjoy a fun evening painting with friends. For more information email us at: cocktailsandcanvasforme@gmail.com \nHappy Painting! \nPlease note that the event begins promptly at 4:00pm cst \n\n\n \n\n\nC&C Hocus Pocus Paint Ticket
URL:https://www.cocktailscanvas.com/event/hocus-pocus-chocolates-canvas/
LOCATION:Michigan City South Bend Chocolate Cafe\, 307 Lighthouse Place\, Michigan City\, IN\, 46360\, United States
CATEGORIES:Chocolates & Canvas
ATTACH;FMTTYPE=image/jpeg:https://www.cocktailscanvas.com/wp-content/uploads/2022/08/IMG_9546.jpg
END:VEVENT
BEGIN:VEVENT
DTSTART;TZID=UTC:20221009T180000
DTEND;TZID=UTC:20221009T210000
DTSTAMP:20260421T131111
CREATED:20220906T203338Z
LAST-MODIFIED:20220923T194516Z
UID:2115-1665338400-1665349200@www.cocktailscanvas.com
SUMMARY:Everyday Should Be Halloween
DESCRIPTION:Join us in a fun and festive time painting “Everyday Should Be Halloween” at the Hobart Art Theatre located at 203 Main Street in Hobart Indiana. Bring your friends or come solo to meet new friends!\nNo experience necessary. We will walk you through every step of the way.  \nSeating is limited so reserve your seats now. Tickets may be purchased right here on the website or through Eventbrite www.Eventbrite.com (Search under “cocktailscanvas” in the Chicagoland area.)  \nTime to relax and enjoy a fun evening painting with friends. This event venue is an all ages event as it is in a specific designated area separate from the bar area. Ticket price includes the art entertainment and all of the necessary supplies to create your own beautiful masterpiece on two wine glasses per each painter. All food and beverages are sold separate of the art event ticket. Any questions or need more information email: cocktailsandcanvasforme@gmail.com \nEnjoy cocktails starting at 6:00pm\, painting to commence at 6:30pm. \nHappy Painting! \nIF YOU ARE PURCHASING TICKETS FOR MORE THAN JUST YOURSELF PLEASE EMAIL US AT: cocktailsandcanvasforme@gmail.com AND LET US KNOW THE OTHER NAMES OF THE PERSONS IN YOUR RESERVATION SO WE CAN BE SURE TO SEAT YOU ALL TOGETHER. \n\n\n \n\n\nCocktails & Canvas Ticket\n\n\n\n\n\n\n\n\n*Please note that your ticket is your receipt of complete transaction from website/PayPal. Once your transaction has been completed your name will automatically be put onto our registration list and your seat/easel will be waiting for you when you arrive. You are welcome to take a screenshot of your transaction but it is not necessary. If for any reason you are unable to attend the painting event and give us a 48 hour or more email notification that you are unable to attend we will gladly give you a credit in which you are able to use towards any event of your choice within the next 60 days from the date of your original event ticket purchase. Any questions about the event or your ticket purchase please email: cocktailsandcanvasforme@gmail.com  \n*Paypal has very secure requirements and depending on your secure firewall the pay portal may cause issues to delay the ticket purchase. Please note that tickets for this event can be purchased on Eventbrite (www.eventbrite.com) under “cocktailscanvas” in the Chicagoland area. If you need any further assistance please email: cocktailsandcanvasforme@gmail.com
URL:https://www.cocktailscanvas.com/event/every-day-should-be-halloween/
LOCATION:Hobart Art Theatre\, 230 Main Street\, Hobart\, IN\, 46342\, United States
CATEGORIES:Cocktails & Canvas
ATTACH;FMTTYPE=image/jpeg:https://www.cocktailscanvas.com/wp-content/uploads/2022/09/IMG_9123-1.jpg
END:VEVENT
BEGIN:VEVENT
DTSTART;TZID=UTC:20221012T180000
DTEND;TZID=UTC:20221012T200000
DTSTAMP:20260421T131111
CREATED:20220912T183638Z
LAST-MODIFIED:20220912T183638Z
UID:2126-1665597600-1665604800@www.cocktailscanvas.com
SUMMARY:Happy Fall
DESCRIPTION:Join us at the Goblin & the Grocer Restaurant as we will be painting “Happy Fall” altogether in a step by step format.\nBring your friends or come solo to meet new friends!\nNo experience necessary. We will walk you through every step of the way.  \nSeating is limited so reserve your easels now. Tickets may be purchased right here on the website or through Eventbrite www.Eventbrite.com (Search under “cocktailscanvas” in the Chicagoland area.)  \nTime to relax and enjoy a fun evening painting with friends. This event venue is an all ages event as it is in a specific designated area separate from the bar area. Ticket price includes the art entertainment and all of the necessary supplies including silk autumn leaves to accent your festive fall pumpkins to create your own beautiful masterpiece. All food and beverages are sold separate of the art event ticket. Any questions or need more information email: cocktailsandcanvasforme@gmail.com \nHappy Painting! \nIF YOU HAVE A LARGE PARTY OR PURCHASING TICKETS FOR ANYONE BESIDES YOURSELF\, PLEASE BE SURE TO EMAIL US WITH A LIST OF YOUR GUESTS NAMES SO WE CAN BE SURE YOU ARE ALL SEATED TOGETHER. Email: cocktailsandcanvasforme@gmail.com \n\n\n \n\n\nGoblin&Grocer.PaintingTicket\n\n\n\n\n\n\n\n\n*Please note that your ticket is your receipt of complete transaction from website/PayPal. Once your transaction has been completed your name will automatically be put onto our registration list and your seat/easel will be waiting for you when you arrive. You are welcome to take a screenshot of your transaction but it is not necessary. If for any reason you are unable to attend the painting event and give us a 48 hour or more email notification that you are unable to attend we will gladly give you a credit in which you are able to use towards any event of your choice within the next 60 days from the date of your original event ticket purchase. Any questions about the event or your ticket purchase email: cocktailsandcanvasforme@gmail.com  \n*Paypal has very secure requirements and depending on your secure firewall the pay portal may cause issues to delay the ticket purchase. Please note that tickets for this event can be purchased on Eventbrite (www.eventbrite.com) under “cocktailscanvas” in the Chicagoland area. If you need any further assistance email: cocktailsandcanvasforme@gmail.com
URL:https://www.cocktailscanvas.com/event/happy-fall/
LOCATION:Goblin & the Grocer Restaurant\, 1 West Dunes Highway\, Beverly Shores\, IN\, 46301\, United States
CATEGORIES:Cocktails & Canvas
END:VEVENT
BEGIN:VEVENT
DTSTART;TZID=UTC:20221015T140000
DTEND;TZID=UTC:20221015T160000
DTSTAMP:20260421T131111
CREATED:20220920T201026Z
LAST-MODIFIED:20220920T201026Z
UID:2135-1665842400-1665849600@www.cocktailscanvas.com
SUMMARY:Hocus Pocus
DESCRIPTION:Join us in painting “Hocus Pocus” at Kelly’s Pub in South Bend Indiana.\nBring your friends or come solo to meet new friends! No experience necessary. We will walk you through every step of the way\, no stress all fun!  \nSeating is limited so reserve your easels now. Tickets may be purchased right here on the website\, through Eventbrite or at Kelly’s Pub. Time to relax and enjoy a fun evening painting with friends.  \nThis event venue is a 21 and older event. Ticket price includes the art entertainment and all of the necessary supplies to create your own beautiful masterpiece. All food and beverages are sold separate of the art event ticket. Any questions or need more information email: cocktailsandcanvasforme@gmail.com \nIF YOU HAVE A LARGE PARTY OR PURCHASING TICKETS FOR ANYONE BESIDES YOURSELF\, PLEASE BE SURE TO EMAIL US WITH A LIST OF YOUR GUESTS NAMES SO WE CAN BE SURE YOU ARE ALL SEATED TOGETHER. Email: cocktailsandcanvasforme@gmail.com \n\n\n \n\n\nKelly’s Pub Painting Ticket\n\n\n\n\n\n\n\n\n*Please note that your ticket is your receipt of complete transaction from website/PayPal. Once your transaction has been completed your name will automatically be put onto our registration list and your seat/easel will be waiting for you when you arrive. You are welcome to take a screenshot of your transaction but it is not necessary. If for any reason you are unable to attend the painting event and give us a 48 hour or more email notification that you are unable to attend we will gladly give you a credit in which you are able to use towards any event of your choice within the next 60 days from the date of your original event ticket purchase. Any questions about the event or your ticket purchase please email us at: cocktailsandcanvasforme@gmail.com  \n*Paypal has very secure requirements and depending on your secure firewall the pay portal may cause issues to delay the ticket purchase. Please note that tickets for this event can be purchased on Eventbrite (www.eventbrite.com) under “cocktailscanvas” in the Chicagoland area. If you need any further assistance please email: cocktailsandcanvasforme@gmail.com
URL:https://www.cocktailscanvas.com/event/hocus-pocus/
LOCATION:Kelly’s Pub\, 1150 Mishawaka Ave\, South Bend\, IN\, 46615\, United States
CATEGORIES:Cocktails & Canvas
ATTACH;FMTTYPE=image/jpeg:https://www.cocktailscanvas.com/wp-content/uploads/2022/08/IMG_9546.jpg
END:VEVENT
END:VCALENDAR