BEGIN:VCALENDAR
VERSION:2.0
PRODID:-//Cocktails &amp; Canvas - ECPv6.15.20//NONSGML v1.0//EN
CALSCALE:GREGORIAN
METHOD:PUBLISH
X-ORIGINAL-URL:https://www.cocktailscanvas.com
X-WR-CALDESC:Events for Cocktails &amp; Canvas
REFRESH-INTERVAL;VALUE=DURATION:PT1H
X-Robots-Tag:noindex
X-PUBLISHED-TTL:PT1H
BEGIN:VTIMEZONE
TZID:UTC
BEGIN:STANDARD
TZOFFSETFROM:+0000
TZOFFSETTO:+0000
TZNAME:UTC
DTSTART:20210101T000000
END:STANDARD
END:VTIMEZONE
BEGIN:VEVENT
DTSTART;TZID=UTC:20220113T180000
DTEND;TZID=UTC:20220113T200000
DTSTAMP:20260422T043051
CREATED:20211216T230805Z
LAST-MODIFIED:20211216T230805Z
UID:1796-1642096800-1642104000@www.cocktailscanvas.com
SUMMARY:Cardinal Memories
DESCRIPTION:Looking for something fun to do? \nJoin us in painting the festive inspired “Cardinal Memories” at the Goblin & the Grocer Restaurant in Beverly Shores Indiana. Bring your friends or come solo to meet new friends!\nNo experience necessary. We will walk you through every step of the way.  \nSeating is limited so reserve your easels now.\nTickets may be purchased right here on the website\, or via Eventbrite (search under “cocktailscanvas” in the Chicagoland area). \nTime to relax and enjoy a fun evening painting with friends. This event venue is an all ages event as it is in a specific designated area separate from the bar area. Ticket price includes the art entertainment and all of the necessary supplies to create your own beautiful masterpiece. All food and beverages are sold separate of the art event ticket. Any questions or need more information email: cocktailsandcanvasforme@gmail.com \nHappy Painting! \nPlease note the event begins promptly at 6:00pm cst.  \n\n\n \n\n\nGoblin&Grocer.PaintingTicket\n\n\n\n\n\n\n\n\n*Please note that your ticket is your receipt of complete transaction from website/PayPal. Once your transaction has been completed your name will automatically be put onto our registration list and your seat/easel will be waiting for you when you arrive. You are welcome to take a screenshot of your transaction but it is not necessary. If for any reason you are unable to attend the painting event and give us a 48 hour or more email notification that you are unable to attend we will gladly give you a credit in which you are able to use towards any event of your choice within the next 60 days from the date of your original event ticket purchase. Any questions about the event or your ticket purchase please email us at: cocktailsandcanvasforme@gmail.com  \n*Paypal has very secure requirements and depending on your secure firewall the pay portal may cause issues to delay the ticket purchase. Please note that tickets for this event can be purchased on Eventbrite (www.eventbrite.com) under “cocktailscanvas” in the Chicagoland area. If you need any further assistance please email: cocktailsandcanvasforme@gmail.com
URL:https://www.cocktailscanvas.com/event/cardinal-memories-3/
LOCATION:Goblin & the Grocer Restaurant\, 1 West Dunes Highway\, Beverly Shores\, IN\, 46301\, United States
ATTACH;FMTTYPE=image/jpeg:https://www.cocktailscanvas.com/wp-content/uploads/2020/10/84C2D192-0404-4B91-998A-CB675448F812.jpeg
END:VEVENT
BEGIN:VEVENT
DTSTART;TZID=UTC:20220126T180000
DTEND;TZID=UTC:20220126T200000
DTSTAMP:20260422T043051
CREATED:20211221T201314Z
LAST-MODIFIED:20220112T065934Z
UID:1800-1643220000-1643227200@www.cocktailscanvas.com
SUMMARY:Winter Wonderland
DESCRIPTION:Looking for something fun to do? Join us in painting “Winter Wonderland” at Crown Brewing/Carriage Court Pizza in Crown Point Indiana. Bring your friends or come solo to meet new friends!\nNo experience necessary. We will walk you through every step of the way.  \nSeating is limited so reserve your easels now. Tickets may be purchased right here on the website or through Eventbrite www.Eventbrite.com (Search under “cocktailscanvas” in the Chicagoland area.)  \nTime to relax and enjoy a fun evening painting with friends. This event venue is an all ages event as it is in a specific designated area separate from the bar area. Ticket price includes the art entertainment and all of the necessary supplies to create your own beautiful masterpiece. All food and beverages are sold separate of the art event ticket. Any questions or need more information email: cocktailsandcanvasforme@gmail.com \nHappy Painting! \n\n\n \n\n\nPainting Ticket CC $35\n\n\n\n\n\n\n\n\n*Please note that your ticket is your receipt of complete transaction from website/PayPal. Once your transaction has been completed your name will automatically be put onto our registration list and your seat/easel will be waiting for you when you arrive. You are welcome to take a screenshot of your transaction but it is not necessary. If for any reason you are unable to attend the painting event and give us a 48 hour or more email notification that you are unable to attend we will gladly give you a credit in which you are able to use towards any event of your choice within the next 60 days from the date of your original event ticket purchase. Any questions about the event or your ticket purchase please email: cocktailsandcanvasforme@gmail.com  \n*Paypal has very secure requirements and depending on your secure firewall the pay portal may cause issues to delay the ticket purchase. Please note that tickets for this event can be purchased on Eventbrite (www.eventbrite.com) under “cocktailscanvas” in the Chicagoland area. If you need any further assistance please email: cocktailsandcanvasforme@gmail.com
URL:https://www.cocktailscanvas.com/event/winter-wonderland/
LOCATION:Carriage Court Pizza\, 211 S East Street #A\, Crown Point\, IN\, 46307\, United States
CATEGORIES:Cocktails & Canvas
ATTACH;FMTTYPE=image/jpeg:https://www.cocktailscanvas.com/wp-content/uploads/2021/12/IMG_90258B94C97F-1.jpeg
END:VEVENT
BEGIN:VEVENT
DTSTART;TZID=UTC:20220131T180000
DTEND;TZID=UTC:20220131T200000
DTSTAMP:20260422T043051
CREATED:20211221T201902Z
LAST-MODIFIED:20211221T202003Z
UID:1803-1643652000-1643659200@www.cocktailscanvas.com
SUMMARY:BELIEVE
DESCRIPTION:Join us in painting “Believe” at AJ’s Pizza Co. in Chesterton Indiana.\nBring your friends or come solo to meet new friends! No experience necessary. We will walk you through every step of the way.  \nSeating is limited so reserve your easels now. Tickets may be purchased right here on the website\, through Eventbrite or at AJ’s Pizza Co.in Chesterton Indiana. Time to relax and enjoy a fun evening painting with friends.  \nThis event venue is an all ages event as it is in a specific designated area separate from the bar area. Ticket price includes the art entertainment and all of the necessary supplies to create your own beautiful masterpiece. All food and beverages are sold separate of the art event ticket. Any questions or need more information email: cocktailsandcanvasforme@gmail.com \nHappy Painting! \n\n\n \n\n\nCocktails&Canvas/AJ’s Ticket\n\n\n\n\n\n\n\n\n*Please note that your ticket is your receipt of complete transaction from website/PayPal. Once your transaction has been completed your name will automatically be put onto our registration list and your seat/easel will be waiting for you when you arrive. You are welcome to take a screenshot of your transaction but it is not necessary. If for any reason you are unable to attend the painting event and give us a 48 hour or more email notification that you are unable to attend we will gladly give you a credit in which you are able to use towards any event of your choice within the next 60 days from the date of your original event ticket purchase. Any questions about the event or your ticket purchase please email us at: cocktailsandcanvasforme@gmail.com  \n*Paypal has very secure requirements and depending on your secure firewall the pay portal may cause issues to delay the ticket purchase. Please note that tickets for this event can be purchased on Eventbrite (www.eventbrite.com) under “cocktailscanvas” in the Chicagoland area. If you need any further assistance please email: cocktailsandcanvasforme@gmail.com
URL:https://www.cocktailscanvas.com/event/believe-2/
LOCATION:AJ’s Pizza Co.\, 3050 Matson Dr.\, Chesterton\, IN\, 46360\, United States
CATEGORIES:Cocktails & Canvas
ATTACH;FMTTYPE=image/jpeg:https://www.cocktailscanvas.com/wp-content/uploads/2021/11/IMG_2511.jpg
END:VEVENT
END:VCALENDAR