BEGIN:VCALENDAR
VERSION:2.0
PRODID:-//Cocktails &amp; Canvas - ECPv6.15.20//NONSGML v1.0//EN
CALSCALE:GREGORIAN
METHOD:PUBLISH
X-WR-CALNAME:Cocktails &amp; Canvas
X-ORIGINAL-URL:https://www.cocktailscanvas.com
X-WR-CALDESC:Events for Cocktails &amp; Canvas
REFRESH-INTERVAL;VALUE=DURATION:PT1H
X-Robots-Tag:noindex
X-PUBLISHED-TTL:PT1H
BEGIN:VTIMEZONE
TZID:UTC
BEGIN:STANDARD
TZOFFSETFROM:+0000
TZOFFSETTO:+0000
TZNAME:UTC
DTSTART:20200101T000000
END:STANDARD
END:VTIMEZONE
BEGIN:VEVENT
DTSTART;TZID=UTC:20211118T180000
DTEND;TZID=UTC:20211118T200000
DTSTAMP:20260422T072427
CREATED:20211022T184942Z
LAST-MODIFIED:20211116T210259Z
UID:1680-1637258400-1637265600@www.cocktailscanvas.com
SUMMARY:Colorful Lagoon
DESCRIPTION:Looking for something fun to do? \nJoin us in painting “Colorful Lagoon” at the Goblin & the Grocer Restaurant in Beverly Shores Indiana.\nBring your friends or come solo to meet new friends!\nNo experience necessary. We will walk you through every step of the way.  \nSeating is limited so reserve your easels now. Tickets may be purchased on the website here or through Eventbrite (search under “cocktailscanvas” in the Chicagoland area).This event is an “all ages” event as the painting area is separate from the bar area. Ticket price includes the fun and enjoyable art entertainment and all of the necessary supplies to create your own masterpiece on a 16×20 canvas. All food and beverages are sold separately.  \nTime to relax and enjoy a fun evening painting with friends. For more information email us at: cocktailsandcanvasforme@gmail.com\nHappy Painting! \nTHIS EVENT HAS BEEN RESCHEDULED.
URL:https://www.cocktailscanvas.com/event/colorful-lagoon/
LOCATION:Goblin & the Grocer Restaurant\, 1 West Dunes Highway\, Beverly Shores\, IN\, 46301\, United States
CATEGORIES:Cocktails & Canvas
ATTACH;FMTTYPE=image/jpeg:https://www.cocktailscanvas.com/wp-content/uploads/2021/10/IMG_2196.jpg
END:VEVENT
BEGIN:VEVENT
DTSTART;TZID=UTC:20211122T180000
DTEND;TZID=UTC:20211122T200000
DTSTAMP:20260422T072427
CREATED:20211022T190153Z
LAST-MODIFIED:20211121T230230Z
UID:1683-1637604000-1637611200@www.cocktailscanvas.com
SUMMARY:Thankful & Blessed
DESCRIPTION:Looking for something fun to do? \nJoin us in painting “Thankful & Blessed” at AJ’s Pizza Co. in Chesterton Indiana.\nBring your friends or come solo to meet new friends!\nNo experience necessary. We will walk you through every step of the way.  \nSeating is limited so reserve your easels now. Tickets may be purchased on the website here or through Eventbrite (search under “cocktailscanvas” in the Chicagoland area).This event is an “all ages” event as the painting area is separate from the bar area. Ticket price includes the fun and enjoyable art entertainment and all of the necessary supplies to create your own masterpiece on a 16×20 canvas. All food and beverages are sold separately.  \nTime to relax and enjoy a fun evening painting with friends. For more information email us at: cocktailsandcanvasforme@gmail.com\nHappy Painting! \nTHIS EVENT IS SOLD OUT.\nTo be placed on our cancellation of reservations will call list email: cocktailsandcanvasforme@gmail.com \n*Your “e ticket” is the receipt of complete transaction from website/PayPal. Once your transaction has been completed your name will automatically be put onto our registration list and your seat/easel will be waiting for you when you arrive. You are welcome to take a screenshot of your transaction but it is not necessary. Any questions about the event or your ticket purchase email us at: cocktailsandcanvasforme@gmail.com
URL:https://www.cocktailscanvas.com/event/thankful-blessed/
LOCATION:AJ’s Pizza Co.\, 3050 Matson Dr.\, Chesterton\, IN\, 46360\, United States
ATTACH;FMTTYPE=image/jpeg:https://www.cocktailscanvas.com/wp-content/uploads/2021/10/IMG_2198.jpg
END:VEVENT
END:VCALENDAR