BEGIN:VCALENDAR
VERSION:2.0
PRODID:-//Cocktails &amp; Canvas - ECPv6.15.20//NONSGML v1.0//EN
CALSCALE:GREGORIAN
METHOD:PUBLISH
X-ORIGINAL-URL:https://www.cocktailscanvas.com
X-WR-CALDESC:Events for Cocktails &amp; Canvas
REFRESH-INTERVAL;VALUE=DURATION:PT1H
X-Robots-Tag:noindex
X-PUBLISHED-TTL:PT1H
BEGIN:VTIMEZONE
TZID:UTC
BEGIN:STANDARD
TZOFFSETFROM:+0000
TZOFFSETTO:+0000
TZNAME:UTC
DTSTART:20200101T000000
END:STANDARD
END:VTIMEZONE
BEGIN:VEVENT
DTSTART;TZID=UTC:20210923T160000
DTEND;TZID=UTC:20210923T180000
DTSTAMP:20260422T103759
CREATED:20210807T022513Z
LAST-MODIFIED:20210827T183745Z
UID:1603-1632412800-1632420000@www.cocktailscanvas.com
SUMMARY:Elephant Love
DESCRIPTION:Join us in painting “Elephant Love” at the South Bend Chocolate Cafe at the Michigan City Lighthouse Outlet Mall in Michigan City Indiana.\nBring your friends or come solo to meet new friends! \nNo experience necessary. We will walk you through every step of the way.  \nSeating is limited so reserve your easels now.\nTickets may be purchased right here on the website or through Eventbrite (search “cocktailscanvas” in the Chicagoland area). \nTime to relax and enjoy a fun evening painting with friends. For more information email us at: cocktailsandcanvasforme@gmail.com \nHappy Painting! \n\n\n \n\n\nChocolate&Canvas Ticket\n\n\n\n\n\n\n\n\n*Please note that your ticket is your receipt of complete transaction from website/PayPal. Once your transaction has been completed your name will automatically be put onto our registration list and your seat/easel will be waiting for you when you arrive. You are welcome to take a screenshot of your transaction but it is not necessary. Any questions about the event or your ticket purchase please email us at: cocktailsandcanvasforme@gmail.com
URL:https://www.cocktailscanvas.com/event/save-the-date-13/
LOCATION:Michigan City South Bend Chocolate Cafe\, 307 Lighthouse Place\, Michigan City\, IN\, 46360\, United States
ATTACH;FMTTYPE=image/jpeg:https://www.cocktailscanvas.com/wp-content/uploads/2021/08/IMG_0200.jpg
END:VEVENT
BEGIN:VEVENT
DTSTART;TZID=UTC:20210927T180000
DTEND;TZID=UTC:20210927T200000
DTSTAMP:20260422T103759
CREATED:20210807T022717Z
LAST-MODIFIED:20210831T005339Z
UID:1605-1632765600-1632772800@www.cocktailscanvas.com
SUMMARY:Tears of Gold
DESCRIPTION:Join us in painting “Tears of Gold” at AJ’s Pizza Co. in Chesterton Indiana.\nBring your friends or come solo to meet new friends! \nNo experience necessary. We will walk you through every step of the way.  \nSeating is limited so reserve your easels now.\nTickets may be purchased right here on the website\, through Eventbrite or at AJ’s Pizza Co.in Chesterton Indiana. \nTime to relax and enjoy a fun evening painting with friends. For more information email us at: cocktailsandcanvasforme@gmail.com \nHappy Painting! \n\n\n \n\n\nCocktails&Canvas/AJ’s Ticket\n\n\n\n\n\n\n\n\n*Please note that your ticket is your receipt of complete transaction from website/PayPal. Once your transaction has been completed your name will automatically be put onto our registration list and your seat/easel will be waiting for you when you arrive. You are welcome to take a screenshot of your transaction but it is not necessary. Any questions about the event or your ticket purchase please email us at: cocktailsandcanvasforme@gmail.com
URL:https://www.cocktailscanvas.com/event/save-the-date-14/
LOCATION:AJ’s Pizza Co.\, 3050 Matson Dr.\, Chesterton\, IN\, 46360\, United States
ATTACH;FMTTYPE=image/jpeg:https://www.cocktailscanvas.com/wp-content/uploads/2021/08/IMG_9FC61D16EB2F-1.jpeg
END:VEVENT
END:VCALENDAR