BEGIN:VCALENDAR
VERSION:2.0
PRODID:-//Cocktails &amp; Canvas - ECPv6.15.20//NONSGML v1.0//EN
CALSCALE:GREGORIAN
METHOD:PUBLISH
X-WR-CALNAME:Cocktails &amp; Canvas
X-ORIGINAL-URL:https://www.cocktailscanvas.com
X-WR-CALDESC:Events for Cocktails &amp; Canvas
REFRESH-INTERVAL;VALUE=DURATION:PT1H
X-Robots-Tag:noindex
X-PUBLISHED-TTL:PT1H
BEGIN:VTIMEZONE
TZID:UTC
BEGIN:STANDARD
TZOFFSETFROM:+0000
TZOFFSETTO:+0000
TZNAME:UTC
DTSTART:20200101T000000
END:STANDARD
END:VTIMEZONE
BEGIN:VEVENT
DTSTART;TZID=UTC:20210824T180000
DTEND;TZID=UTC:20210824T200000
DTSTAMP:20260422T121150
CREATED:20210725T062636Z
LAST-MODIFIED:20210823T052336Z
UID:1584-1629828000-1629835200@www.cocktailscanvas.com
SUMMARY:The Lady in Red
DESCRIPTION:Looking for something fun to do? \nJoin us in painting “The Lady in Red” at Crown Brewing/Carriage Court Pizza in Crown Point Indiana. \nBring your friends or come solo to meet new friends!\nNo experience necessary. We will walk you through every step of the way.  \nSeating is limited so reserve your easels now. Tickets may be purchased right here on the website or through Eventbrite www.Eventbrite.com (Search under “cocktailscanvas” in the Chicagoland area.)  \nTime to relax and enjoy a fun evening painting with friends.  \nFor more information email us at: cocktailsandcanvasforme@gmail.com \nHappy Painting! \nTHIS EVENT IS BEING RESCHEDULED\, EMAIL US AT: COCKTAILSANDCANVASFORME@GMAIL.COM FOR THE NEW RESCHEDULED DATE.
URL:https://www.cocktailscanvas.com/event/the-lady-in-red/
LOCATION:Carriage Court Pizza\, 211 S East Street #A\, Crown Point\, IN\, 46307\, United States
CATEGORIES:Cocktails & Canvas
ATTACH;FMTTYPE=image/jpeg:https://www.cocktailscanvas.com/wp-content/uploads/2021/07/IMG_0085.jpg
END:VEVENT
END:VCALENDAR