BEGIN:VCALENDAR
VERSION:2.0
PRODID:-//Cocktails &amp; Canvas - ECPv6.15.20//NONSGML v1.0//EN
CALSCALE:GREGORIAN
METHOD:PUBLISH
X-WR-CALNAME:Cocktails &amp; Canvas
X-ORIGINAL-URL:https://www.cocktailscanvas.com
X-WR-CALDESC:Events for Cocktails &amp; Canvas
REFRESH-INTERVAL;VALUE=DURATION:PT1H
X-Robots-Tag:noindex
X-PUBLISHED-TTL:PT1H
BEGIN:VTIMEZONE
TZID:UTC
BEGIN:STANDARD
TZOFFSETFROM:+0000
TZOFFSETTO:+0000
TZNAME:UTC
DTSTART:20200101T000000
END:STANDARD
END:VTIMEZONE
BEGIN:VEVENT
DTSTART;TZID=UTC:20210526T160000
DTEND;TZID=UTC:20210526T180000
DTSTAMP:20260420T225348
CREATED:20210219T000801Z
LAST-MODIFIED:20210524T215940Z
UID:1454-1622044800-1622052000@www.cocktailscanvas.com
SUMMARY:Cheerful Blossoms
DESCRIPTION:Looking for something fun to do? \nJoin us as we paint “Cheerful Blossoms” while sampling delicious chocolates at the Michigan City South Bend Chocolate Cafe located at the Lighthouse Outlet Mall.  \nThis painting is done in a step by step format. No experience necessary. We will walk you through every step of the way. Come relax and have fun!  \nSeating is limited so reserve your easels now.\nTickets may be purchased right here on website.  \nThis is a family friendly event. Ticket includes painting session and chocolate sampling. \nFor more information email us at:cocktailsandcanvasforme@gmail.com  \nHappy Painting! \nThis event has been rescheduled. To find out the new rescheduled date please email us.
URL:https://www.cocktailscanvas.com/event/starry-sunflowers/
LOCATION:Michigan City South Bend Chocolate Cafe\, 307 Lighthouse Place\, Michigan City\, IN\, 46360\, United States
CATEGORIES:Cocktails & Canvas
ATTACH;FMTTYPE=image/jpeg:https://www.cocktailscanvas.com/wp-content/uploads/2021/02/IMG_7957.jpg
END:VEVENT
END:VCALENDAR